BEGIN:VCALENDAR
VERSION:2.0
PRODID:concerti//https://www.concerti.de
CALSCALE:GREGORIAN
BEGIN:VTIMEZONE
TZID:Europe/Berlin
X-LIC-LOCATION:Europe/Berlin
BEGIN:DAYLIGHT
TZOFFSETFROM:+0100
TZOFFSETTO:+0200
TZNAME:CEST
DTSTART:19700329T020000
RRULE:FREQ=YEARLY;BYMONTH=3;BYDAY=-1SU
END:DAYLIGHT
BEGIN:STANDARD
TZOFFSETFROM:+0200
TZOFFSETTO:+0100
TZNAME:CET
DTSTART:19701025T030000
RRULE:FREQ=YEARLY;BYMONTH=10;BYDAY=-1SU
END:STANDARD
END:VTIMEZONE
BEGIN:VEVENT
UID:4059770493c8bc9fafd4e87dbd9b57f8
SUMMARY:Naoka Aoki (Violine), Airi Suzuki (Violine), Jano Lisboa (Viola), Wen-Sinn Yang (Violoncello), Boris Kusnezow (Klavier) - Schaumburger Schlosskonzerte
URL:https://www.concerti.de/termine/naoka-aoki-violine-airi-suzuki-violine-jano-lisboa-viola-wen-sinn-yang-violoncello-boris-kusnezow-klavier-760530/
DTSTART;TZID=Europe/Berlin:20260617T193000
DTEND;TZID=Europe/Berlin:20260617T213000
DESCRIPTION:Interpreten: Naoka Aoki (Violine)\, Airi Suzuki (Violine)\, Jano Lisboa (Viola)\, Wen-Sinn Yang (Violoncello)\, Boris Kusnezow (Klavier) \nProgramm: Gubaidulina: Reflexionen über B-A-C-H\, Schumann: Klavierquintett Es-Dur op. 44\, Dvořák: Klavierquintett A-Dur op. 81 \nhttps://www.concerti.de/termine/naoka-aoki-violine-airi-suzuki-violine-jano-lisboa-viola-wen-sinn-yang-violoncello-boris-kusnezow-klavier-760530/
LOCATION:Schloss\, Bückeburg
END:VEVENT
END:VCALENDAR