BEGIN:VCALENDAR
VERSION:2.0
PRODID:concerti//https://www.concerti.de
CALSCALE:GREGORIAN
BEGIN:VTIMEZONE
TZID:Europe/Berlin
X-LIC-LOCATION:Europe/Berlin
BEGIN:DAYLIGHT
TZOFFSETFROM:+0100
TZOFFSETTO:+0200
TZNAME:CEST
DTSTART:19700329T020000
RRULE:FREQ=YEARLY;BYMONTH=3;BYDAY=-1SU
END:DAYLIGHT
BEGIN:STANDARD
TZOFFSETFROM:+0200
TZOFFSETTO:+0100
TZNAME:CET
DTSTART:19701025T030000
RRULE:FREQ=YEARLY;BYMONTH=10;BYDAY=-1SU
END:STANDARD
END:VTIMEZONE
BEGIN:VEVENT
UID:16b06b6d7f23587b7a7cc38ef25188c9
SUMMARY:Concilium musicum Wien, Christoph Angerer (Leitung)
URL:https://www.concerti.de/termine/concilium-musicum-wien-christoph-angerer-leitung-759214/
DTSTART;TZID=Europe/Berlin:20260609T193000
DTEND;TZID=Europe/Berlin:20260609T213000
DESCRIPTION:Interpreten: Concilium musicum Wien\, Christoph Angerer (Leitung) \nProgramm: Werke von Haydn\, J. M. Haydn\, Mozart\, Pleyel\, Stamitz & Angerer \nhttps://www.concerti.de/termine/concilium-musicum-wien-christoph-angerer-leitung-759214/
LOCATION:Haus der Industrie\, Wien
END:VEVENT
END:VCALENDAR