BEGIN:VCALENDAR
VERSION:2.0
PRODID:concerti//https://www.concerti.de
CALSCALE:GREGORIAN
BEGIN:VTIMEZONE
TZID:Europe/Berlin
X-LIC-LOCATION:Europe/Berlin
BEGIN:DAYLIGHT
TZOFFSETFROM:+0100
TZOFFSETTO:+0200
TZNAME:CEST
DTSTART:19700329T020000
RRULE:FREQ=YEARLY;BYMONTH=3;BYDAY=-1SU
END:DAYLIGHT
BEGIN:STANDARD
TZOFFSETFROM:+0200
TZOFFSETTO:+0100
TZNAME:CET
DTSTART:19701025T030000
RRULE:FREQ=YEARLY;BYMONTH=10;BYDAY=-1SU
END:STANDARD
END:VTIMEZONE
BEGIN:VEVENT
UID:0f2244f73238d648f8d96e47555fbd2d
SUMMARY:Lortzing: Regina - Lortzing Festtage
URL:https://www.concerti.de/termine/lortzing-regina-759026/
DTSTART;TZID=Europe/Berlin:20260513T193000
DTEND;TZID=Europe/Berlin:20260513T213000
DESCRIPTION:Interpreten: Yorck Felix Speer (Simon)\, Jacquelyn Wagner (Regina)\, Mathias Hausmann (Stephan)\, Andreas Hermann (Richard)\, Constantin Trinks (Leitung)\, Bernd Mottl (Regie)\, Oliver Weidinger (Simon)\, Jacquelyn Wagner (Regina)\, Mathias Hausmann (Stephan)\, Andreas Hermann (Richard)\, Constantin Trinks (Leitung)\, Bernd Mottl (Regie)\, Peter Dolinšek (Simon)\, Jacquelyn Wagner (Regina)\, Henryk Böhm (Stephan)\, Matthias Stier (Richard)\, Constantin Trinks (Leitung)\, Bernd Mottl (Regie)\, Oliver Weidinger (Simon)\, Netta Or (Regina)\, Mathias Hausmann (Stephan)\, Andreas Hermann (Richard)\, Constantin Trinks (Leitung)\, Bernd Mottl (Regie)\, Yorck Felix Speer/Peter Dolinšek (Simon)\, Jacquelyn Wagner/Solen Mainguené (Regina)\, Tuomas Pursio/Mathias Hausmann (Stephan)\, Andreas Hermann/Matthias Stier (Richard)\, Constantin Trinks (Leitung)\, Bernd Mottl (Regie) \nhttps://www.concerti.de/termine/lortzing-regina-759026/
LOCATION:Oper Leipzig\, Augustusplatz 12\, 04109 Leipzig
END:VEVENT
END:VCALENDAR