BEGIN:VCALENDAR
VERSION:2.0
PRODID:concerti//https://www.concerti.de
CALSCALE:GREGORIAN
BEGIN:VTIMEZONE
TZID:Europe/Berlin
X-LIC-LOCATION:Europe/Berlin
BEGIN:DAYLIGHT
TZOFFSETFROM:+0100
TZOFFSETTO:+0200
TZNAME:CEST
DTSTART:19700329T020000
RRULE:FREQ=YEARLY;BYMONTH=3;BYDAY=-1SU
END:DAYLIGHT
BEGIN:STANDARD
TZOFFSETFROM:+0200
TZOFFSETTO:+0100
TZNAME:CET
DTSTART:19701025T030000
RRULE:FREQ=YEARLY;BYMONTH=10;BYDAY=-1SU
END:STANDARD
END:VTIMEZONE
BEGIN:VEVENT
UID:2e0a0be8967a10ec0602f4ccaffec930
SUMMARY:Lortzing: Der Waffenschmied - Lortzing Festtage
URL:https://www.concerti.de/termine/lortzing-der-waffenschmied-musikalische-komoedie-758799/
DTSTART;TZID=Europe/Berlin:20260424T193000
DTEND;TZID=Europe/Berlin:20260424T213000
DESCRIPTION:Interpreten: Uwe Schenker-Primus (Hans Stadinger)\, Elissa Huber (Marie)\, Martin Häßler (Graf von Liebenau)\, Sven Hjörleifsson (Georg)\, Kathrin Göring (Irmentraut)\, Michael Nündel (Leitung)\, Sonja Trebes (Regie)\, Florian Spiess (Hans Stadinger)\, Elissa Huber (Marie)\, Martin Häßler (Graf von Liebenau)\, Sven Hjörleifsson (Georg)\, Kathrin Göring (Irmentraut)\, Michael Nündel (Leitung)\, Sonja Trebes (Regie)\, Uwe Schenker-Primus/Florian Spiess (Hans Stadinger)\, Elissa Huber/Friederike Meinke (Marie)\, Martin Häßler (Graf von Liebenau)\, Sven Hjörleifsson (Georg)\, Kathrin Göring (Irmentraut)\, Michael Nündel (Leitung)\, Sonja Trebes (Regie) \nhttps://www.concerti.de/termine/lortzing-der-waffenschmied-musikalische-komoedie-758799/
LOCATION:Musikalische Komödie Leipzig\, Dreilindenstraße 30\, 04177 Leipzig
END:VEVENT
END:VCALENDAR