BEGIN:VCALENDAR
VERSION:2.0
PRODID:concerti//https://www.concerti.de
CALSCALE:GREGORIAN
BEGIN:VTIMEZONE
TZID:Europe/Berlin
X-LIC-LOCATION:Europe/Berlin
BEGIN:DAYLIGHT
TZOFFSETFROM:+0100
TZOFFSETTO:+0200
TZNAME:CEST
DTSTART:19700329T020000
RRULE:FREQ=YEARLY;BYMONTH=3;BYDAY=-1SU
END:DAYLIGHT
BEGIN:STANDARD
TZOFFSETFROM:+0200
TZOFFSETTO:+0100
TZNAME:CET
DTSTART:19701025T030000
RRULE:FREQ=YEARLY;BYMONTH=10;BYDAY=-1SU
END:STANDARD
END:VTIMEZONE
BEGIN:VEVENT
UID:feb30f4bfc223fff557273d6a1ac2b35
SUMMARY:Jean-Luc Sperissen (Flöte), Orchestre de Chambre de Lausanne, Sophie Dervaux (Leitung)
URL:https://www.concerti.de/termine/jean-luc-sperissen-floete-orchestre-de-chambre-de-lausanne-sophie-dervaux-leitung-757596/
DTSTART;TZID=Europe/Berlin:20260531T111500
DTEND;TZID=Europe/Berlin:20260531T131500
DESCRIPTION:Interpreten: Jean-Luc Sperissen (Flöte)\, Orchestre de Chambre de Lausanne\, Sophie Dervaux (Leitung) \nProgramm: Debussy: Prélude à l’après-midi d’un faune\, Quantz: Flötenkonzert G-Dur\, Farrene: Sinfonie Nr. 1 c-Moll op. 32 \nhttps://www.concerti.de/termine/jean-luc-sperissen-floete-orchestre-de-chambre-de-lausanne-sophie-dervaux-leitung-757596/
LOCATION:Salle Métropole\, Lausanne
END:VEVENT
END:VCALENDAR