BEGIN:VCALENDAR
VERSION:2.0
PRODID:concerti//https://www.concerti.de
CALSCALE:GREGORIAN
BEGIN:VTIMEZONE
TZID:Europe/Berlin
X-LIC-LOCATION:Europe/Berlin
BEGIN:DAYLIGHT
TZOFFSETFROM:+0100
TZOFFSETTO:+0200
TZNAME:CEST
DTSTART:19700329T020000
RRULE:FREQ=YEARLY;BYMONTH=3;BYDAY=-1SU
END:DAYLIGHT
BEGIN:STANDARD
TZOFFSETFROM:+0200
TZOFFSETTO:+0100
TZNAME:CET
DTSTART:19701025T030000
RRULE:FREQ=YEARLY;BYMONTH=10;BYDAY=-1SU
END:STANDARD
END:VTIMEZONE
BEGIN:VEVENT
UID:a1d0d90cef516a1cb02446d26b72df1b
SUMMARY:Emmanuel Pahud (Flöte), Nelson Goerner (Klavier)
URL:https://www.concerti.de/termine/emmanuel-pahud-floete-nelson-goerner-klavier-757579/
DTSTART;TZID=Europe/Berlin:20260520T193000
DTEND;TZID=Europe/Berlin:20260520T213000
DESCRIPTION:Interpreten: Emmanuel Pahud (Flöte)\, Nelson Goerner (Klavier) \nProgramm: J. S. Bach: Flötensonate A-Dur BWV 1032\, Prokofjew: Flötensonate D-Dur op. 94\, Schumann/Pahud: Fantasiestücke op. 73\, R. Strauss/Pahud: Sonate Es-Dur op. 18 \nhttps://www.concerti.de/termine/emmanuel-pahud-floete-nelson-goerner-klavier-757579/
LOCATION:Noda BCVS Sion\, Av. de Tourbillon 22\, 1950 Sion
END:VEVENT
END:VCALENDAR