BEGIN:VCALENDAR
VERSION:2.0
PRODID:concerti//https://www.concerti.de
CALSCALE:GREGORIAN
BEGIN:VTIMEZONE
TZID:Europe/Berlin
X-LIC-LOCATION:Europe/Berlin
BEGIN:DAYLIGHT
TZOFFSETFROM:+0100
TZOFFSETTO:+0200
TZNAME:CEST
DTSTART:19700329T020000
RRULE:FREQ=YEARLY;BYMONTH=3;BYDAY=-1SU
END:DAYLIGHT
BEGIN:STANDARD
TZOFFSETFROM:+0200
TZOFFSETTO:+0100
TZNAME:CET
DTSTART:19701025T030000
RRULE:FREQ=YEARLY;BYMONTH=10;BYDAY=-1SU
END:STANDARD
END:VTIMEZONE
BEGIN:VEVENT
UID:6e06ed660a1dbd070e9903437e61f08d
SUMMARY:La musique classique, c’est quoi ?
URL:https://www.concerti.de/termine/la-musique-classique-cest-quoi-757534/
DTSTART;TZID=Europe/Berlin:20260506T170000
DTEND;TZID=Europe/Berlin:20260506T190000
DESCRIPTION:Interpreten: Françoise Carriere (Gesang)\, Mitglieder des Orchestre de Chambre de Lausanne\, Mattia Bornati (Leitung)\, Sabine Quindou (Regie) \nProgramm: Musik von Haydn\, Mozart & Beethoven \nhttps://www.concerti.de/termine/la-musique-classique-cest-quoi-757534/
LOCATION:Salle Métropole\, Lausanne
END:VEVENT
END:VCALENDAR