BEGIN:VCALENDAR
VERSION:2.0
PRODID:concerti//https://www.concerti.de
CALSCALE:GREGORIAN
BEGIN:VTIMEZONE
TZID:Europe/Berlin
X-LIC-LOCATION:Europe/Berlin
BEGIN:DAYLIGHT
TZOFFSETFROM:+0100
TZOFFSETTO:+0200
TZNAME:CEST
DTSTART:19700329T020000
RRULE:FREQ=YEARLY;BYMONTH=3;BYDAY=-1SU
END:DAYLIGHT
BEGIN:STANDARD
TZOFFSETFROM:+0200
TZOFFSETTO:+0100
TZNAME:CET
DTSTART:19701025T030000
RRULE:FREQ=YEARLY;BYMONTH=10;BYDAY=-1SU
END:STANDARD
END:VTIMEZONE
BEGIN:VEVENT
UID:cfeb943e841705344674f9776eabe655
SUMMARY:Davide Bandieri (Klarinette), François Sochard (Violine), Daniel Mitnitsky (Violoncello), Stephanie Gurga (Klavier)
URL:https://www.concerti.de/termine/davide-bandieri-klarinette-francois-sochard-violine-daniel-mitnitsky-violoncello-stephanie-gurga-klavier-757516/
DTSTART;TZID=Europe/Berlin:20260429T123000
DTEND;TZID=Europe/Berlin:20260429T143000
DESCRIPTION:Interpreten: Davide Bandieri (Klarinette)\, François Sochard (Violine)\, Daniel Mitnitsky (Violoncello)\, Stephanie Gurga (Klavier) \nProgramm: Messiaen: Quatuor pour la fin du temps \nhttps://www.concerti.de/termine/davide-bandieri-klarinette-francois-sochard-violine-daniel-mitnitsky-violoncello-stephanie-gurga-klavier-757516/
LOCATION:Salle Paderewski\, Lausanne
END:VEVENT
END:VCALENDAR