BEGIN:VCALENDAR
VERSION:2.0
PRODID:concerti//https://www.concerti.de
CALSCALE:GREGORIAN
BEGIN:VTIMEZONE
TZID:Europe/Berlin
X-LIC-LOCATION:Europe/Berlin
BEGIN:DAYLIGHT
TZOFFSETFROM:+0100
TZOFFSETTO:+0200
TZNAME:CEST
DTSTART:19700329T020000
RRULE:FREQ=YEARLY;BYMONTH=3;BYDAY=-1SU
END:DAYLIGHT
BEGIN:STANDARD
TZOFFSETFROM:+0200
TZOFFSETTO:+0100
TZNAME:CET
DTSTART:19701025T030000
RRULE:FREQ=YEARLY;BYMONTH=10;BYDAY=-1SU
END:STANDARD
END:VTIMEZONE
BEGIN:VEVENT
UID:870621f6ae6f74702b54f0dec192dcfa
SUMMARY:Joseph Moog (Klavier), Staatskapelle Halle, Andreas Wolf (Leitung)
URL:https://www.concerti.de/termine/joseph-moog-klavier-staatskapelle-halle-andreas-wolf-leitung-konzerthalle-ulrichskirche-755397/
DTSTART;TZID=Europe/Berlin:20260531T160000
DTEND;TZID=Europe/Berlin:20260531T180000
DESCRIPTION:Interpreten: Joseph Moog (Klavier)\, Staatskapelle Halle\, Andreas Wolf (Leitung) \nProgramm: Beethoven: Klavierkonzert Nr. 5 Es-Dur op. 73 & Sinfonie Nr. 5 c-Moll op. 67 \nhttps://www.concerti.de/termine/joseph-moog-klavier-staatskapelle-halle-andreas-wolf-leitung-konzerthalle-ulrichskirche-755397/
LOCATION:Konzerthalle Ulrichskirche\, Christian-Wolff-Straße 2\, 06108 Halle (Saale)
END:VEVENT
END:VCALENDAR