BEGIN:VCALENDAR
VERSION:2.0
PRODID:concerti//https://www.concerti.de
CALSCALE:GREGORIAN
BEGIN:VTIMEZONE
TZID:Europe/Berlin
X-LIC-LOCATION:Europe/Berlin
BEGIN:DAYLIGHT
TZOFFSETFROM:+0100
TZOFFSETTO:+0200
TZNAME:CEST
DTSTART:19700329T020000
RRULE:FREQ=YEARLY;BYMONTH=3;BYDAY=-1SU
END:DAYLIGHT
BEGIN:STANDARD
TZOFFSETFROM:+0200
TZOFFSETTO:+0100
TZNAME:CET
DTSTART:19701025T030000
RRULE:FREQ=YEARLY;BYMONTH=10;BYDAY=-1SU
END:STANDARD
END:VTIMEZONE
BEGIN:VEVENT
UID:f0095d535e7d5bb594435f29ef7a0b42
SUMMARY:Mozart: Die Hochzeit des Figaro
URL:https://www.concerti.de/termine/mozart-die-hochzeit-des-figaro-staatsoper-hannover-723863/
DTSTART;TZID=Europe/Berlin:20260502T193000
DTEND;TZID=Europe/Berlin:20260502T213000
DESCRIPTION:Interpreten: Matteo Guerzè (Graf Almaviva)\, Rebecca Nelsen (Gräfin Almaviva)\, Ketevan Chuntishvili (Susanna)\, Serhii Moskalchuk (Figaro)\, Cassandra Doyle (Cherubino)\, Masaru Kumakura (Leitung)\, Lydia Steier (Regie) \nhttps://www.concerti.de/termine/mozart-die-hochzeit-des-figaro-staatsoper-hannover-723863/
LOCATION:Staatsoper Hannover\, Opernplatz 1\, 30159 Hannover
END:VEVENT
END:VCALENDAR