BEGIN:VCALENDAR
VERSION:2.0
PRODID:concerti//https://www.concerti.de
CALSCALE:GREGORIAN
BEGIN:VTIMEZONE
TZID:Europe/Berlin
X-LIC-LOCATION:Europe/Berlin
BEGIN:DAYLIGHT
TZOFFSETFROM:+0100
TZOFFSETTO:+0200
TZNAME:CEST
DTSTART:19700329T020000
RRULE:FREQ=YEARLY;BYMONTH=3;BYDAY=-1SU
END:DAYLIGHT
BEGIN:STANDARD
TZOFFSETFROM:+0200
TZOFFSETTO:+0100
TZNAME:CET
DTSTART:19701025T030000
RRULE:FREQ=YEARLY;BYMONTH=10;BYDAY=-1SU
END:STANDARD
END:VTIMEZONE
BEGIN:VEVENT
UID:4dace809ddd12f48067dca609527062d
SUMMARY:Sondheim: Sweeney Todd
URL:https://www.concerti.de/termine/sondheim-sweeney-todd-739368/
DTSTART;TZID=Europe/Berlin:20260502T190000
DTEND;TZID=Europe/Berlin:20260502T210000
DESCRIPTION:Interpreten: Gala El Hadidi (Mrs Lovett)\, Jacob Hetzner (Anthony Hope)\, Anna Cavaliero (Johanna Barker)\, Brian Davis (Richter Turpin)\, Max Renne (Leitung)\, Sandra Wissmann (Regie) \nhttps://www.concerti.de/termine/sondheim-sweeney-todd-739368/
LOCATION:Mecklenburgisches Staatstheater Schwerin (Theaterzelt am Küchengarten)\, Alter Garten 2\, 19055 Schwerin
END:VEVENT
END:VCALENDAR