BEGIN:VCALENDAR
VERSION:2.0
PRODID:concerti//https://www.concerti.de
CALSCALE:GREGORIAN
BEGIN:VTIMEZONE
TZID:Europe/Berlin
X-LIC-LOCATION:Europe/Berlin
BEGIN:DAYLIGHT
TZOFFSETFROM:+0100
TZOFFSETTO:+0200
TZNAME:CEST
DTSTART:19700329T020000
RRULE:FREQ=YEARLY;BYMONTH=3;BYDAY=-1SU
END:DAYLIGHT
BEGIN:STANDARD
TZOFFSETFROM:+0200
TZOFFSETTO:+0100
TZNAME:CET
DTSTART:19701025T030000
RRULE:FREQ=YEARLY;BYMONTH=10;BYDAY=-1SU
END:STANDARD
END:VTIMEZONE
BEGIN:VEVENT
UID:31e3056be7f1cd3d407f449b90481d19
SUMMARY:Sondheim: Follies
URL:https://www.concerti.de/termine/sondheim-follies-volksoper-wien-735970/
DTSTART;TZID=Europe/Berlin:20260527T190000
DTEND;TZID=Europe/Berlin:20260527T210000
DESCRIPTION:Interpreten: Martin G. Berger (Regie) \nhttps://www.concerti.de/termine/sondheim-follies-volksoper-wien-735970/
LOCATION:Volksoper Wien\, Währinger Straße 78\, 1090 Wien
END:VEVENT
END:VCALENDAR