BEGIN:VCALENDAR
VERSION:2.0
PRODID:concerti//https://www.concerti.de
CALSCALE:GREGORIAN
BEGIN:VTIMEZONE
TZID:Europe/Berlin
X-LIC-LOCATION:Europe/Berlin
BEGIN:DAYLIGHT
TZOFFSETFROM:+0100
TZOFFSETTO:+0200
TZNAME:CEST
DTSTART:19700329T020000
RRULE:FREQ=YEARLY;BYMONTH=3;BYDAY=-1SU
END:DAYLIGHT
BEGIN:STANDARD
TZOFFSETFROM:+0200
TZOFFSETTO:+0100
TZNAME:CET
DTSTART:19701025T030000
RRULE:FREQ=YEARLY;BYMONTH=10;BYDAY=-1SU
END:STANDARD
END:VTIMEZONE
BEGIN:VEVENT
UID:ae3f6240b590f167cd3b4f839fcfb96c
SUMMARY:Eva Gevorgyan (Klavier)
URL:https://www.concerti.de/termine/eva-gevorgyan-klavier-rudolf-oetker-halle-735023/
DTSTART;TZID=Europe/Berlin:20261007T183000
DTEND;TZID=Europe/Berlin:20261007T203000
DESCRIPTION:Interpreten: Eva Gevorgyan (Klavier) \nProgramm: Chopin: 24 Preludes op. 28\, Brahms: Vier Klavierstücke op. 119\, Schumann: Carnaval op. 9 \nhttps://www.concerti.de/termine/eva-gevorgyan-klavier-rudolf-oetker-halle-735023/
LOCATION:Rudolf-Oetker-Halle\, Lampingstraße 16\, 33615 Bielefeld
END:VEVENT
END:VCALENDAR