BEGIN:VCALENDAR
VERSION:2.0
PRODID:concerti//https://www.concerti.de
CALSCALE:GREGORIAN
BEGIN:VTIMEZONE
TZID:Europe/Berlin
X-LIC-LOCATION:Europe/Berlin
BEGIN:DAYLIGHT
TZOFFSETFROM:+0100
TZOFFSETTO:+0200
TZNAME:CEST
DTSTART:19700329T020000
RRULE:FREQ=YEARLY;BYMONTH=3;BYDAY=-1SU
END:DAYLIGHT
BEGIN:STANDARD
TZOFFSETFROM:+0200
TZOFFSETTO:+0100
TZNAME:CET
DTSTART:19701025T030000
RRULE:FREQ=YEARLY;BYMONTH=10;BYDAY=-1SU
END:STANDARD
END:VTIMEZONE
BEGIN:VEVENT
UID:de94530a526490f1302b974e743f6ef9
SUMMARY:Albrecht Mayer (Oboe), Theo Plath (Fagott), Fabian Müller (Klavier)
URL:https://www.concerti.de/termine/albrecht-mayer-oboe-theo-plath-fagott-fabian-mueller-klavier-theater-muenster-735020/
DTSTART;TZID=Europe/Berlin:20261026T180000
DTEND;TZID=Europe/Berlin:20261026T200000
DESCRIPTION:Interpreten: Albrecht Mayer (Oboe)\, Theo Plath (Fagott)\, Fabian Müller (Klavier) \nProgramm: Françaix: Trio\, Saint-Saëns: Sonaten D-Dur op. 166 & G-Dur op. 168\, Ravel: Miroirs Nr. 2 & Nr. 4\, Poulenc: Trio \nhttps://www.concerti.de/termine/albrecht-mayer-oboe-theo-plath-fagott-fabian-mueller-klavier-theater-muenster-735020/
LOCATION:Theater Münster\, Neubrückenstraße 63\, 48143 Münster
END:VEVENT
END:VCALENDAR