BEGIN:VCALENDAR
VERSION:2.0
PRODID:concerti//https://www.concerti.de
CALSCALE:GREGORIAN
BEGIN:VTIMEZONE
TZID:Europe/Berlin
X-LIC-LOCATION:Europe/Berlin
BEGIN:DAYLIGHT
TZOFFSETFROM:+0100
TZOFFSETTO:+0200
TZNAME:CEST
DTSTART:19700329T020000
RRULE:FREQ=YEARLY;BYMONTH=3;BYDAY=-1SU
END:DAYLIGHT
BEGIN:STANDARD
TZOFFSETFROM:+0200
TZOFFSETTO:+0100
TZNAME:CET
DTSTART:19701025T030000
RRULE:FREQ=YEARLY;BYMONTH=10;BYDAY=-1SU
END:STANDARD
END:VTIMEZONE
BEGIN:VEVENT
UID:7fcf3378620e2692bd73518143a0e1e3
SUMMARY:Euro-Baroque Song Contest - Internationales Bachfest Schaffhausen
URL:https://www.concerti.de/termine/euro-baroque-song-contest-734564/
DTSTART;TZID=Europe/Berlin:20260516T200000
DTEND;TZID=Europe/Berlin:20260516T220000
DESCRIPTION:Interpreten: Lautten Compagney Berlin\, Wolfgang Katschner (Leitung) \nhttps://www.concerti.de/termine/euro-baroque-song-contest-734564/
LOCATION:Stadttheater Schaffhausen\, Herrenacker 23\, 8200 Schaffhausen
END:VEVENT
END:VCALENDAR