BEGIN:VCALENDAR
VERSION:2.0
PRODID:concerti//https://www.concerti.de
CALSCALE:GREGORIAN
BEGIN:VTIMEZONE
TZID:Europe/Berlin
X-LIC-LOCATION:Europe/Berlin
BEGIN:DAYLIGHT
TZOFFSETFROM:+0100
TZOFFSETTO:+0200
TZNAME:CEST
DTSTART:19700329T020000
RRULE:FREQ=YEARLY;BYMONTH=3;BYDAY=-1SU
END:DAYLIGHT
BEGIN:STANDARD
TZOFFSETFROM:+0200
TZOFFSETTO:+0100
TZNAME:CET
DTSTART:19701025T030000
RRULE:FREQ=YEARLY;BYMONTH=10;BYDAY=-1SU
END:STANDARD
END:VTIMEZONE
BEGIN:VEVENT
UID:c5cf74f2d7629f3346491cf63109638c
SUMMARY:Johannes Kammler (Bariton), David Leigh (Bass), Deutsches Symphonie-Orchester Berlin, Kent Nagano (Leitung)
URL:https://www.concerti.de/termine/johannes-kammler-bariton-david-leigh-bass-deutsches-symphonie-orchester-berlin-kent-nagano-leitung-philharmonie-berlin-732081/
DTSTART;TZID=Europe/Berlin:20260501T200000
DTEND;TZID=Europe/Berlin:20260501T220000
DESCRIPTION:Interpreten: Johannes Kammler (Bariton)\, David Leigh (Bass)\, Deutsches Symphonie-Orchester Berlin\, Kent Nagano (Leitung) \nProgramm: Dvořák: Die Mittagshexe\, Beethoven: Suite aus „Die Geschöpfe des Prometheus“\, Bernstein: Dybbuk \nhttps://www.concerti.de/termine/johannes-kammler-bariton-david-leigh-bass-deutsches-symphonie-orchester-berlin-kent-nagano-leitung-philharmonie-berlin-732081/
LOCATION:Philharmonie Berlin\, Herbert-von-Karajan-Straße 1\, 10785 Berlin
END:VEVENT
END:VCALENDAR