BEGIN:VCALENDAR
VERSION:2.0
PRODID:concerti//https://www.concerti.de
CALSCALE:GREGORIAN
BEGIN:VTIMEZONE
TZID:Europe/Berlin
X-LIC-LOCATION:Europe/Berlin
BEGIN:DAYLIGHT
TZOFFSETFROM:+0100
TZOFFSETTO:+0200
TZNAME:CEST
DTSTART:19700329T020000
RRULE:FREQ=YEARLY;BYMONTH=3;BYDAY=-1SU
END:DAYLIGHT
BEGIN:STANDARD
TZOFFSETFROM:+0200
TZOFFSETTO:+0100
TZNAME:CET
DTSTART:19701025T030000
RRULE:FREQ=YEARLY;BYMONTH=10;BYDAY=-1SU
END:STANDARD
END:VTIMEZONE
BEGIN:VEVENT
UID:46ab55e9b8c6830f06fc60f3a28d6049
SUMMARY:Lortzing: Zar und Zimmermann
URL:https://www.concerti.de/termine/lortzing-zar-und-zimmermann-deutsche-oper-726992/
DTSTART;TZID=Europe/Berlin:20260702T193000
DTEND;TZID=Europe/Berlin:20260702T213000
DESCRIPTION:Interpreten: Artur Garbas (Peter der Erste)\, Philipp Kapeller (Peter Iwanow)\, Patrick Zielke (van Bett)\, Nadja Mchantaf (Marie)\, Joel Allison (Lefort)\, Antonello Manacorda (Leitung)\, Martin G. Berger (Regie) \nhttps://www.concerti.de/termine/lortzing-zar-und-zimmermann-deutsche-oper-726992/
LOCATION:Deutsche Oper Berlin\, Bismarckstr. 35\, 10627 Berlin
END:VEVENT
END:VCALENDAR