BEGIN:VCALENDAR
VERSION:2.0
PRODID:concerti//https://www.concerti.de
CALSCALE:GREGORIAN
BEGIN:VTIMEZONE
TZID:Europe/Berlin
X-LIC-LOCATION:Europe/Berlin
BEGIN:DAYLIGHT
TZOFFSETFROM:+0100
TZOFFSETTO:+0200
TZNAME:CEST
DTSTART:19700329T020000
RRULE:FREQ=YEARLY;BYMONTH=3;BYDAY=-1SU
END:DAYLIGHT
BEGIN:STANDARD
TZOFFSETFROM:+0200
TZOFFSETTO:+0100
TZNAME:CET
DTSTART:19701025T030000
RRULE:FREQ=YEARLY;BYMONTH=10;BYDAY=-1SU
END:STANDARD
END:VTIMEZONE
BEGIN:VEVENT
UID:1d2bdb5f32373169702d2ab2ab97b079
SUMMARY:Kammermusik der Mendelssohn-Orchesterakademie
URL:https://www.concerti.de/termine/mitglieder-der-mendelssohn-orchesterakademie-elisaveta-blumina-leitung-gewandhaus-leipzig-731460/
DTSTART;TZID=Europe/Berlin:20260503T110000
DTEND;TZID=Europe/Berlin:20260503T130000
DESCRIPTION:Interpreten: Henrique Gonçalves (Violine)\, Carolin Susanna Herrmann (Violine)\, María Espino Codes (Violine)\, Yunah Seo (Violine)\, Eira Martinez Rivero (Viola)\, Nicola Maisenbacher (Viola)\, Jasmin Blomenkamp (Violoncello)\, Elias Wagner (Violoncello) \nProgramm: Brahms: Streichquartett Nr. 1 c-Moll op. 51/1\, Schumann: Streichquartett A-Dur op. 41/3 \nhttps://www.concerti.de/termine/mitglieder-der-mendelssohn-orchesterakademie-elisaveta-blumina-leitung-gewandhaus-leipzig-731460/
LOCATION:Gewandhaus Leipzig\, Augustusplatz 8\, 04109 Leipzig
END:VEVENT
END:VCALENDAR