BEGIN:VCALENDAR
VERSION:2.0
PRODID:concerti//https://www.concerti.de
CALSCALE:GREGORIAN
BEGIN:VTIMEZONE
TZID:Europe/Berlin
X-LIC-LOCATION:Europe/Berlin
BEGIN:DAYLIGHT
TZOFFSETFROM:+0100
TZOFFSETTO:+0200
TZNAME:CEST
DTSTART:19700329T020000
RRULE:FREQ=YEARLY;BYMONTH=3;BYDAY=-1SU
END:DAYLIGHT
BEGIN:STANDARD
TZOFFSETFROM:+0200
TZOFFSETTO:+0100
TZNAME:CET
DTSTART:19701025T030000
RRULE:FREQ=YEARLY;BYMONTH=10;BYDAY=-1SU
END:STANDARD
END:VTIMEZONE
BEGIN:VEVENT
UID:3bb8c32d46fbc82fea6bdd89b307d04c
SUMMARY:Bartosz Zachlod (Violine), Kristina Altunjan (Violine), Anna Lewis (Viola), Carlos Campos Medina (Viola), Carsten Jaspert (Violoncello)
URL:https://www.concerti.de/termine/bartosz-zachlod-violine-kristina-altunjan-violine-anna-lewis-viola-carlos-campos-medina-viola-carsten-jaspert-violoncello-ndr-landesfunkhaus-726333/
DTSTART;TZID=Europe/Berlin:20260503T113000
DTEND;TZID=Europe/Berlin:20260503T133000
DESCRIPTION:Interpreten: Bartosz Zachlod (Violine)\, Kristina Altunjan (Violine)\, Anna Lewis (Viola)\, Carlos Campos Medina (Viola)\, Carsten Jaspert (Violoncello) \nProgramm: Pärt: Fratres\, Weinberg: Streichtrio op. 48\, Bruckner: Streichquintett F-Dur \nhttps://www.concerti.de/termine/bartosz-zachlod-violine-kristina-altunjan-violine-anna-lewis-viola-carlos-campos-medina-viola-carsten-jaspert-violoncello-ndr-landesfunkhaus-726333/
LOCATION:NDR Konzerthaus Hannover\, Rudolf-von-Bennigsen-Ufer 22\, 30169 Hannover
END:VEVENT
END:VCALENDAR