BEGIN:VCALENDAR
VERSION:2.0
PRODID:concerti//https://www.concerti.de
CALSCALE:GREGORIAN
BEGIN:VTIMEZONE
TZID:Europe/Berlin
X-LIC-LOCATION:Europe/Berlin
BEGIN:DAYLIGHT
TZOFFSETFROM:+0100
TZOFFSETTO:+0200
TZNAME:CEST
DTSTART:19700329T020000
RRULE:FREQ=YEARLY;BYMONTH=3;BYDAY=-1SU
END:DAYLIGHT
BEGIN:STANDARD
TZOFFSETFROM:+0200
TZOFFSETTO:+0100
TZNAME:CET
DTSTART:19701025T030000
RRULE:FREQ=YEARLY;BYMONTH=10;BYDAY=-1SU
END:STANDARD
END:VTIMEZONE
BEGIN:VEVENT
UID:d35985f5325ca48871097105cb7afb38
SUMMARY:Mozart: Così fan tutte
URL:https://www.concerti.de/termine/mozart-cosi-fan-tutte-opernhaus-zuerich-725139/
DTSTART;TZID=Europe/Berlin:20260709T190000
DTEND;TZID=Europe/Berlin:20260709T210000
DESCRIPTION:Interpreten: Elbenita Kajtazi (Fiordiligi)\, Siena Licht Miller (Dorabella)\, Yannick Derbus (Guglielmo)\, Bogdan Volkov (Ferrando)\, Rebeca Olvera (Despina)\, Luca Pisaroni (Don Alfonso)\, Francesco Guglielmino (Sempronio)\, Evgeny Kulagin (Tizio)\, Roberto González-Monjas (Leitung)\, Kirill Serebrennikov (Regie) \nhttps://www.concerti.de/termine/mozart-cosi-fan-tutte-opernhaus-zuerich-725139/
LOCATION:Opernhaus Zürich\, Falkenstrasse 1\, 8008 Zürich
END:VEVENT
END:VCALENDAR