BEGIN:VCALENDAR
VERSION:2.0
PRODID:concerti//https://www.concerti.de
CALSCALE:GREGORIAN
BEGIN:VTIMEZONE
TZID:Europe/Berlin
X-LIC-LOCATION:Europe/Berlin
BEGIN:DAYLIGHT
TZOFFSETFROM:+0100
TZOFFSETTO:+0200
TZNAME:CEST
DTSTART:19700329T020000
RRULE:FREQ=YEARLY;BYMONTH=3;BYDAY=-1SU
END:DAYLIGHT
BEGIN:STANDARD
TZOFFSETFROM:+0200
TZOFFSETTO:+0100
TZNAME:CET
DTSTART:19701025T030000
RRULE:FREQ=YEARLY;BYMONTH=10;BYDAY=-1SU
END:STANDARD
END:VTIMEZONE
BEGIN:VEVENT
UID:b72621ad0bc36a8717bac5fb24d385f4
SUMMARY:Nachtträume
URL:https://www.concerti.de/termine/nachttraeume-opernhaus-zuerich-725081/
DTSTART;TZID=Europe/Berlin:20260630T190000
DTEND;TZID=Europe/Berlin:20260630T210000
DESCRIPTION:Interpreten: Matthias Schoch (Gesang & Schauspiel)\, Marcos Morau (Choreografie) \nhttps://www.concerti.de/termine/nachttraeume-opernhaus-zuerich-725081/
LOCATION:Opernhaus Zürich\, Falkenstrasse 1\, 8008 Zürich
END:VEVENT
END:VCALENDAR