BEGIN:VCALENDAR
VERSION:2.0
PRODID:concerti//https://www.concerti.de
CALSCALE:GREGORIAN
BEGIN:VTIMEZONE
TZID:Europe/Berlin
X-LIC-LOCATION:Europe/Berlin
BEGIN:DAYLIGHT
TZOFFSETFROM:+0100
TZOFFSETTO:+0200
TZNAME:CEST
DTSTART:19700329T020000
RRULE:FREQ=YEARLY;BYMONTH=3;BYDAY=-1SU
END:DAYLIGHT
BEGIN:STANDARD
TZOFFSETFROM:+0200
TZOFFSETTO:+0100
TZNAME:CET
DTSTART:19701025T030000
RRULE:FREQ=YEARLY;BYMONTH=10;BYDAY=-1SU
END:STANDARD
END:VTIMEZONE
BEGIN:VEVENT
UID:6433bb58c37aee97bff6c81109a9962f
SUMMARY:Open-Air-Konzert für alle
URL:https://www.concerti.de/termine/open-air-konzert-fuer-alle-725129/
DTSTART;TZID=Europe/Berlin:20260628T200000
DTEND;TZID=Europe/Berlin:20260628T220000
DESCRIPTION:Interpreten: Benjamin Bernheim (Tenor)\, Orchester der Oper Zürich\, Gianandrea Noseda (Leitung) \nProgramm: Dvořák: Sinfonie Nr. 9 e-Moll op. 95 „Aus der Neuen Welt“ u. a. \nhttps://www.concerti.de/termine/open-air-konzert-fuer-alle-725129/
LOCATION:Sechseläutenplatz\, Zürich
END:VEVENT
END:VCALENDAR