BEGIN:VCALENDAR
VERSION:2.0
PRODID:concerti//https://www.concerti.de
CALSCALE:GREGORIAN
BEGIN:VTIMEZONE
TZID:Europe/Berlin
X-LIC-LOCATION:Europe/Berlin
BEGIN:DAYLIGHT
TZOFFSETFROM:+0100
TZOFFSETTO:+0200
TZNAME:CEST
DTSTART:19700329T020000
RRULE:FREQ=YEARLY;BYMONTH=3;BYDAY=-1SU
END:DAYLIGHT
BEGIN:STANDARD
TZOFFSETFROM:+0200
TZOFFSETTO:+0100
TZNAME:CET
DTSTART:19701025T030000
RRULE:FREQ=YEARLY;BYMONTH=10;BYDAY=-1SU
END:STANDARD
END:VTIMEZONE
BEGIN:VEVENT
UID:097e22afcd63635b6cca9d95ab0874c8
SUMMARY:Alessia Tondo (Gesang), Avi Avital (Mandoline), Between Worlds Ensemble
URL:https://www.concerti.de/termine/alessia-tondo-gesang-avi-avital-mandoline-philharmonie-mercatorhalle-723302/
DTSTART;TZID=Europe/Berlin:20260612T193000
DTEND;TZID=Europe/Berlin:20260612T213000
DESCRIPTION:Interpreten: Alessia Tondo (Gesang)\, Avi Avital (Mandoline)\, Between Worlds Ensemble \nhttps://www.concerti.de/termine/alessia-tondo-gesang-avi-avital-mandoline-philharmonie-mercatorhalle-723302/
LOCATION:Philharmonie Mercatorhalle\, Landfermannstraße 6\, 47051 Duisburg
END:VEVENT
END:VCALENDAR