BEGIN:VCALENDAR
VERSION:2.0
PRODID:concerti//https://www.concerti.de
CALSCALE:GREGORIAN
BEGIN:VTIMEZONE
TZID:Europe/Berlin
X-LIC-LOCATION:Europe/Berlin
BEGIN:DAYLIGHT
TZOFFSETFROM:+0100
TZOFFSETTO:+0200
TZNAME:CEST
DTSTART:19700329T020000
RRULE:FREQ=YEARLY;BYMONTH=3;BYDAY=-1SU
END:DAYLIGHT
BEGIN:STANDARD
TZOFFSETFROM:+0200
TZOFFSETTO:+0100
TZNAME:CET
DTSTART:19701025T030000
RRULE:FREQ=YEARLY;BYMONTH=10;BYDAY=-1SU
END:STANDARD
END:VTIMEZONE
BEGIN:VEVENT
UID:75872cdd92b8c24dafc2ba92dfc42a77
SUMMARY:Gautier Capuçon (Violoncello), Mirabelle Kajenjeri (Klavier)
URL:https://www.concerti.de/termine/gautier-capucon-violoncello-mirabelle-kajenjeri-klavier-stadtcasino-basel-720192/
DTSTART;TZID=Europe/Berlin:20260505T193000
DTEND;TZID=Europe/Berlin:20260505T213000
DESCRIPTION:Interpreten: Gautier Capuçon (Violoncello)\, Mirabelle Kajenjeri (Klavier) \nProgramm: Debussy: Cellosonate d-Moll\, Mendelssohn: Cellosonate D-Dur op. 58\, Schumann: Drei Fantasiestücke op. 73\, Brahms: Cellosonate Nr. 2 F-Dur op. 99 \nhttps://www.concerti.de/termine/gautier-capucon-violoncello-mirabelle-kajenjeri-klavier-stadtcasino-basel-720192/
LOCATION:Stadtcasino Basel\, Konzertgasse 1\, 4051 Basel
END:VEVENT
END:VCALENDAR