BEGIN:VCALENDAR
VERSION:2.0
PRODID:concerti//https://www.concerti.de
CALSCALE:GREGORIAN
BEGIN:VTIMEZONE
TZID:Europe/Berlin
X-LIC-LOCATION:Europe/Berlin
BEGIN:DAYLIGHT
TZOFFSETFROM:+0100
TZOFFSETTO:+0200
TZNAME:CEST
DTSTART:19700329T020000
RRULE:FREQ=YEARLY;BYMONTH=3;BYDAY=-1SU
END:DAYLIGHT
BEGIN:STANDARD
TZOFFSETFROM:+0200
TZOFFSETTO:+0100
TZNAME:CET
DTSTART:19701025T030000
RRULE:FREQ=YEARLY;BYMONTH=10;BYDAY=-1SU
END:STANDARD
END:VTIMEZONE
BEGIN:VEVENT
UID:857225c3258d87af5fec45a61fea2975
SUMMARY:Daniel Müller-Schott (Violoncello), Kölner Kammerorchester, Christoph Poppen (Leitung)
URL:https://www.concerti.de/termine/daniel-mueller-schott-violoncello-koelner-kammerorchester-christoph-poppen-leitung-koelner-philharmonie-716910/
DTSTART;TZID=Europe/Berlin:20260531T160000
DTEND;TZID=Europe/Berlin:20260531T180000
DESCRIPTION:Interpreten: Daniel Müller-Schott (Violoncello)\, Kölner Kammerorchester\, Christoph Poppen (Leitung) \nProgramm: Mendelssohn: Die Hebriden op. 26\, Schumann: Cellokonzert a-Moll op. 129 & Sinfonie Nr. 1 B-Dur op. 38 „Frühling“ \nhttps://www.concerti.de/termine/daniel-mueller-schott-violoncello-koelner-kammerorchester-christoph-poppen-leitung-koelner-philharmonie-716910/
LOCATION:Kölner Philharmonie\, Bischofsgartenstr. 1\, 50667 Köln
END:VEVENT
END:VCALENDAR