BEGIN:VCALENDAR
VERSION:2.0
PRODID:concerti//https://www.concerti.de
CALSCALE:GREGORIAN
BEGIN:VTIMEZONE
TZID:Europe/Berlin
X-LIC-LOCATION:Europe/Berlin
BEGIN:DAYLIGHT
TZOFFSETFROM:+0100
TZOFFSETTO:+0200
TZNAME:CEST
DTSTART:19700329T020000
RRULE:FREQ=YEARLY;BYMONTH=3;BYDAY=-1SU
END:DAYLIGHT
BEGIN:STANDARD
TZOFFSETFROM:+0200
TZOFFSETTO:+0100
TZNAME:CET
DTSTART:19701025T030000
RRULE:FREQ=YEARLY;BYMONTH=10;BYDAY=-1SU
END:STANDARD
END:VTIMEZONE
BEGIN:VEVENT
UID:fb9a6987c7f8ce30b3bec54d74b52b0b
SUMMARY:Edoardo Silvi (Flöte), Andreas Schablas (Klarinette), Matjaž Bogataj (Violine), Anna Maija Hirvonen (Violine), Wiebke Heidemeier (Viola), Benedikt Don Strohmeier (Violoncello), Gaël Gandino (Harfe) - Münchner Opernfestspiele: Festspiel-Kammerkonzert
URL:https://www.concerti.de/termine/edoardo-silvi-floete-andreas-schablas-klarinette-matjaz-bogataj-violine-anna-maija-hirvonen-violine-wiebke-heidemeier-viola-benedikt-don-strohmeier-violoncello-gael-gandino-harfe-r-702201/
DTSTART;TZID=Europe/Berlin:20260729T200000
DTEND;TZID=Europe/Berlin:20260729T220000
DESCRIPTION:Interpreten: Edoardo Silvi (Flöte)\, Andreas Schablas (Klarinette)\, Matjaž Bogataj (Violine)\, Anna Maija Hirvonen (Violine)\, Wiebke Heidemeier (Viola)\, Benedikt Don Strohmeier (Violoncello)\, Gaël Gandino (Harfe) \nProgramm: Roussel: Sérénade op. 30\, Chausson: Streichquartett\, Caplet: Conte fantastique nach Edgar Allan\, Ravel: Introduction et Allegro \nhttps://www.concerti.de/termine/edoardo-silvi-floete-andreas-schablas-klarinette-matjaz-bogataj-violine-anna-maija-hirvonen-violine-wiebke-heidemeier-viola-benedikt-don-strohmeier-violoncello-gael-gandino-harfe-r-702201/
LOCATION:Residenz München\, Residenzstraße 1\, 80333 München
END:VEVENT
END:VCALENDAR