BEGIN:VCALENDAR
VERSION:2.0
PRODID:concerti//https://www.concerti.de
CALSCALE:GREGORIAN
BEGIN:VTIMEZONE
TZID:Europe/Berlin
X-LIC-LOCATION:Europe/Berlin
BEGIN:DAYLIGHT
TZOFFSETFROM:+0100
TZOFFSETTO:+0200
TZNAME:CEST
DTSTART:19700329T020000
RRULE:FREQ=YEARLY;BYMONTH=3;BYDAY=-1SU
END:DAYLIGHT
BEGIN:STANDARD
TZOFFSETFROM:+0200
TZOFFSETTO:+0100
TZNAME:CET
DTSTART:19701025T030000
RRULE:FREQ=YEARLY;BYMONTH=10;BYDAY=-1SU
END:STANDARD
END:VTIMEZONE
BEGIN:VEVENT
UID:48cc0f4bdead51a2032e3167a73923ca
SUMMARY:Wagner: Die Walküre - Münchner Opernfestspiele
URL:https://www.concerti.de/termine/wagner-die-walkuere-bayerische-staatsoper-702004/
DTSTART;TZID=Europe/Berlin:20260704T170000
DTEND;TZID=Europe/Berlin:20260704T190000
DESCRIPTION:Interpreten: Joachim Bäckström (Siegmund)\, Ain Anger (Hunding)\, Nicholas Brownlee (Wotan)\, Irene Roberts (Sieglinde)\, Miina-Liisa Värelä (Brünnhilde)\, Vladimir Jurowski (Leitung)\, Tobias Kratzer (Regie) \nhttps://www.concerti.de/termine/wagner-die-walkuere-bayerische-staatsoper-702004/
LOCATION:Bayerische Staatsoper\, Max-Joseph-Platz 2\, 80539 München
END:VEVENT
END:VCALENDAR