BEGIN:VCALENDAR
VERSION:2.0
PRODID:concerti//https://www.concerti.de
CALSCALE:GREGORIAN
BEGIN:VTIMEZONE
TZID:Europe/Berlin
X-LIC-LOCATION:Europe/Berlin
BEGIN:DAYLIGHT
TZOFFSETFROM:+0100
TZOFFSETTO:+0200
TZNAME:CEST
DTSTART:19700329T020000
RRULE:FREQ=YEARLY;BYMONTH=3;BYDAY=-1SU
END:DAYLIGHT
BEGIN:STANDARD
TZOFFSETFROM:+0200
TZOFFSETTO:+0100
TZNAME:CET
DTSTART:19701025T030000
RRULE:FREQ=YEARLY;BYMONTH=10;BYDAY=-1SU
END:STANDARD
END:VTIMEZONE
BEGIN:VEVENT
UID:1365b71ffca8b79c6670d0ed96e3c0b1
SUMMARY:Asya Fateyeva (Saxofon), Staatsorchester Darmstadt, Daniel Cohen (Leitung)
URL:https://www.concerti.de/termine/asya-fateyeva-saxofon-staatsorchester-darmstadt-daniel-cohen-leitung-staatstheater-darmstadt-697987/
DTSTART;TZID=Europe/Berlin:20260518T200000
DTEND;TZID=Europe/Berlin:20260518T220000
DESCRIPTION:Interpreten: Asya Fateyeva (Saxofon)\, Staatsorchester Darmstadt\, Daniel Cohen (Leitung) \nProgramm: Schönberg: Begleitmusik zu einer Lichtspielszene\, Mussorgski/Ravel: Bilder einer Ausstellung u. a. \nhttps://www.concerti.de/termine/asya-fateyeva-saxofon-staatsorchester-darmstadt-daniel-cohen-leitung-staatstheater-darmstadt-697987/
LOCATION:Staatstheater Darmstadt\, Georg-Büchner-Platz 1\, 64283 Darmstadt
END:VEVENT
END:VCALENDAR