BEGIN:VCALENDAR
VERSION:2.0
PRODID:concerti//https://www.concerti.de
CALSCALE:GREGORIAN
BEGIN:VTIMEZONE
TZID:Europe/Berlin
X-LIC-LOCATION:Europe/Berlin
BEGIN:DAYLIGHT
TZOFFSETFROM:+0100
TZOFFSETTO:+0200
TZNAME:CEST
DTSTART:19700329T020000
RRULE:FREQ=YEARLY;BYMONTH=3;BYDAY=-1SU
END:DAYLIGHT
BEGIN:STANDARD
TZOFFSETFROM:+0200
TZOFFSETTO:+0100
TZNAME:CET
DTSTART:19701025T030000
RRULE:FREQ=YEARLY;BYMONTH=10;BYDAY=-1SU
END:STANDARD
END:VTIMEZONE
BEGIN:VEVENT
UID:3ea04894ecf9595ed5b53a03456ab367
SUMMARY:Jean-Guihen Queyras (Violoncello), Orchestra of the 18th Century, Richard Egarr (Leitung)
URL:https://www.concerti.de/termine/jean-guihen-queyras-violoncello-orchestra-of-the-18th-century-richard-egarr-leitung-alte-oper-frankfurt-697712/
DTSTART;TZID=Europe/Berlin:20260606T200000
DTEND;TZID=Europe/Berlin:20260606T220000
DESCRIPTION:Interpreten: Jean-Guihen Queyras (Violoncello)\, Orchestra of the 18th Century\, Richard Egarr (Leitung) \nProgramm: J. S. Bach: Suite Nr. 3 D-Dur BWV 1068\, C. P. E. Bach: Cellokonzert A-Dur Wq 172\, Mendelssohn: Die Hebriden op. 26 & Sinfonie Nr. 5 D-Dur op. 107 „Reformationssinfonie“ \nhttps://www.concerti.de/termine/jean-guihen-queyras-violoncello-orchestra-of-the-18th-century-richard-egarr-leitung-alte-oper-frankfurt-697712/
LOCATION:Alte Oper Frankfurt\, Opernplatz 1\, 60313 Frankfurt (Main)
END:VEVENT
END:VCALENDAR