BEGIN:VCALENDAR
VERSION:2.0
PRODID:concerti//https://www.concerti.de
CALSCALE:GREGORIAN
BEGIN:VTIMEZONE
TZID:Europe/Berlin
X-LIC-LOCATION:Europe/Berlin
BEGIN:DAYLIGHT
TZOFFSETFROM:+0100
TZOFFSETTO:+0200
TZNAME:CEST
DTSTART:19700329T020000
RRULE:FREQ=YEARLY;BYMONTH=3;BYDAY=-1SU
END:DAYLIGHT
BEGIN:STANDARD
TZOFFSETFROM:+0200
TZOFFSETTO:+0100
TZNAME:CET
DTSTART:19701025T030000
RRULE:FREQ=YEARLY;BYMONTH=10;BYDAY=-1SU
END:STANDARD
END:VTIMEZONE
BEGIN:VEVENT
UID:0bed94a2e16f03aa93928a4618b042f4
SUMMARY:Gautier Capuçon (Violoncello), Sächsische Staatskapelle Dresden, Daniele Gatti (Leitung)
URL:https://www.concerti.de/termine/gautier-capucon-violoncello-saechsische-staatskapelle-dresden-daniele-gatti-leitung-alte-oper-frankfurt-697703/
DTSTART;TZID=Europe/Berlin:20260601T200000
DTEND;TZID=Europe/Berlin:20260601T220000
DESCRIPTION:Interpreten: Gautier Capuçon (Violoncello)\, Sächsische Staatskapelle Dresden\, Daniele Gatti (Leitung) \nProgramm: Wagner: Ouvertüre zu „Die Meistersinger von Nürnberg“ & Vorspiel und Karfreitagszauber aus „Parsifal“\, Saint-Saëns: Cellokonzert Nr. 1 a-Moll op. 33\, Debussy: La Mer \nhttps://www.concerti.de/termine/gautier-capucon-violoncello-saechsische-staatskapelle-dresden-daniele-gatti-leitung-alte-oper-frankfurt-697703/
LOCATION:Alte Oper Frankfurt\, Opernplatz 1\, 60313 Frankfurt (Main)
END:VEVENT
END:VCALENDAR