BEGIN:VCALENDAR
VERSION:2.0
PRODID:concerti//https://www.concerti.de
CALSCALE:GREGORIAN
BEGIN:VTIMEZONE
TZID:Europe/Berlin
X-LIC-LOCATION:Europe/Berlin
BEGIN:DAYLIGHT
TZOFFSETFROM:+0100
TZOFFSETTO:+0200
TZNAME:CEST
DTSTART:19700329T020000
RRULE:FREQ=YEARLY;BYMONTH=3;BYDAY=-1SU
END:DAYLIGHT
BEGIN:STANDARD
TZOFFSETFROM:+0200
TZOFFSETTO:+0100
TZNAME:CET
DTSTART:19701025T030000
RRULE:FREQ=YEARLY;BYMONTH=10;BYDAY=-1SU
END:STANDARD
END:VTIMEZONE
BEGIN:VEVENT
UID:44807c57b75312b5a0c52e3889ff3bb0
SUMMARY:Opernstudio der Bayerischen Staatsoper - Münchner Opernfestspiele: Festspiel-Arienabend
URL:https://www.concerti.de/termine/opernstudio-der-bayerischen-staatsoper-konzerthaus-blaibach-695454/
DTSTART;TZID=Europe/Berlin:20260621T110000
DTEND;TZID=Europe/Berlin:20260621T130000
DESCRIPTION:Interpreten: Opernstudio der Bayerischen Staatsoper \nProgramm: Werke von Händel\, Mozart & Donizetti \nhttps://www.concerti.de/termine/opernstudio-der-bayerischen-staatsoper-konzerthaus-blaibach-695454/
LOCATION:Konzerthaus Blaibach\, Kirchplatz 2\, 93476 Blaibach
END:VEVENT
END:VCALENDAR