BEGIN:VCALENDAR
VERSION:2.0
PRODID:concerti//https://www.concerti.de
CALSCALE:GREGORIAN
BEGIN:VTIMEZONE
TZID:Europe/Berlin
X-LIC-LOCATION:Europe/Berlin
BEGIN:DAYLIGHT
TZOFFSETFROM:+0100
TZOFFSETTO:+0200
TZNAME:CEST
DTSTART:19700329T020000
RRULE:FREQ=YEARLY;BYMONTH=3;BYDAY=-1SU
END:DAYLIGHT
BEGIN:STANDARD
TZOFFSETFROM:+0200
TZOFFSETTO:+0100
TZNAME:CET
DTSTART:19701025T030000
RRULE:FREQ=YEARLY;BYMONTH=10;BYDAY=-1SU
END:STANDARD
END:VTIMEZONE
BEGIN:VEVENT
UID:e2407d5ffd7ecc50a2412ae5169c2f87
SUMMARY:Minkus/Britten: Don Quichotte
URL:https://www.concerti.de/termine/minkus-britten-don-quichotte-landestheater-detmold-694482/
DTSTART;TZID=Europe/Berlin:20260425T193000
DTEND;TZID=Europe/Berlin:20260425T213000
DESCRIPTION:Interpreten: Katharina Torwesten (Choreografie) \nhttps://www.concerti.de/termine/minkus-britten-don-quichotte-landestheater-detmold-694482/
LOCATION:Landestheater Detmold\, Theaterpl. 1\, 32756 Detmold
END:VEVENT
END:VCALENDAR