BEGIN:VCALENDAR
VERSION:2.0
PRODID:concerti//https://www.concerti.de
CALSCALE:GREGORIAN
BEGIN:VTIMEZONE
TZID:Europe/Berlin
X-LIC-LOCATION:Europe/Berlin
BEGIN:DAYLIGHT
TZOFFSETFROM:+0100
TZOFFSETTO:+0200
TZNAME:CEST
DTSTART:19700329T020000
RRULE:FREQ=YEARLY;BYMONTH=3;BYDAY=-1SU
END:DAYLIGHT
BEGIN:STANDARD
TZOFFSETFROM:+0200
TZOFFSETTO:+0100
TZNAME:CET
DTSTART:19701025T030000
RRULE:FREQ=YEARLY;BYMONTH=10;BYDAY=-1SU
END:STANDARD
END:VTIMEZONE
BEGIN:VEVENT
UID:5a36b06e0e4bacad55a26df976059625
SUMMARY:Sacre Chor
URL:https://www.concerti.de/termine/sacre-chor-konzerthaus-berlin-691194/
DTSTART;TZID=Europe/Berlin:20260629T200000
DTEND;TZID=Europe/Berlin:20260629T220000
DESCRIPTION:Interpreten: Pen­ny So­fro­nia­dou (Sopran)\, Hu­bert Za­piór (Bariton)\, Iveta Apkalna (Orgel)\, Chorsolisten & Orchester der Komischen Oper Berlin\, Da­vid Ca­ve­li­us (Leitung) \nProgramm: Boulanger: Psalm 130 „Du fond de l’abîme“\, Poulenc: Konzert für Orgel\, Streicher und Pauke g-Moll FP93\, Fauré: Requiem op. 48 \nhttps://www.concerti.de/termine/sacre-chor-konzerthaus-berlin-691194/
LOCATION:Konzerthaus Berlin\, Gendarmenmarkt 2\, 10117 Berlin
END:VEVENT
END:VCALENDAR