BEGIN:VCALENDAR
VERSION:2.0
PRODID:concerti//https://www.concerti.de
CALSCALE:GREGORIAN
BEGIN:VTIMEZONE
TZID:Europe/Berlin
X-LIC-LOCATION:Europe/Berlin
BEGIN:DAYLIGHT
TZOFFSETFROM:+0100
TZOFFSETTO:+0200
TZNAME:CEST
DTSTART:19700329T020000
RRULE:FREQ=YEARLY;BYMONTH=3;BYDAY=-1SU
END:DAYLIGHT
BEGIN:STANDARD
TZOFFSETFROM:+0200
TZOFFSETTO:+0100
TZNAME:CET
DTSTART:19701025T030000
RRULE:FREQ=YEARLY;BYMONTH=10;BYDAY=-1SU
END:STANDARD
END:VTIMEZONE
BEGIN:VEVENT
UID:b3e86e4f854390aca8af855ae92048d4
SUMMARY:Mussorgski: Bilder einer Auststellung - Familienkonzert
URL:https://www.concerti.de/termine/mussorgski-bilder-einer-auststellung-casino-bern-690919/
DTSTART;TZID=Europe/Berlin:20260614T143000
DTEND;TZID=Europe/Berlin:20260614T163000
DESCRIPTION:Interpreten: Berner Symphonieorchester\, Brigitte Hirsig (Rezitation) \nhttps://www.concerti.de/termine/mussorgski-bilder-einer-auststellung-casino-bern-690919/
LOCATION:Casino Bern\, Casinoplatz 1\, 3011 Bern
END:VEVENT
END:VCALENDAR