BEGIN:VCALENDAR
VERSION:2.0
PRODID:concerti//https://www.concerti.de
CALSCALE:GREGORIAN
BEGIN:VTIMEZONE
TZID:Europe/Berlin
X-LIC-LOCATION:Europe/Berlin
BEGIN:DAYLIGHT
TZOFFSETFROM:+0100
TZOFFSETTO:+0200
TZNAME:CEST
DTSTART:19700329T020000
RRULE:FREQ=YEARLY;BYMONTH=3;BYDAY=-1SU
END:DAYLIGHT
BEGIN:STANDARD
TZOFFSETFROM:+0200
TZOFFSETTO:+0100
TZNAME:CET
DTSTART:19701025T030000
RRULE:FREQ=YEARLY;BYMONTH=10;BYDAY=-1SU
END:STANDARD
END:VTIMEZONE
BEGIN:VEVENT
UID:42432b078eca65d674cd8e4fbd52059b
SUMMARY:Händel: Oratorio per la Resurrezione di Nostro Signor Gesù HWV 47
URL:https://www.concerti.de/termine/haendel-oratorio-per-la-resurrezione-di-nostro-signor-gesu-hwv-47-wiener-musikverein-685372/
DTSTART;TZID=Europe/Berlin:20260530T193000
DTEND;TZID=Europe/Berlin:20260530T213000
DESCRIPTION:Interpreten: Ana Maria Labin (Sopran)\, Nicolò Balducci (Sopran)\, Terry Wey (Altus)\, João Terleira (Tenor)\, Alexandre Baldo (Bass)\, Orchester Wiener Akademie\, Martin Haselböck (Leitung) \nhttps://www.concerti.de/termine/haendel-oratorio-per-la-resurrezione-di-nostro-signor-gesu-hwv-47-wiener-musikverein-685372/
LOCATION:Wiener Musikverein\, Musikvereinspl. 1\, 1010 Wien
END:VEVENT
END:VCALENDAR